BEGIN:VCALENDAR
PRODID:-//eluceo/ical//2.0/EN
VERSION:2.0
CALSCALE:GREGORIAN
BEGIN:VEVENT
UID:1a28bc08139d61a2d21449fbd7338f44
DTSTAMP:20260425T180603Z
SUMMARY:Loïc Wacquant – Rethinking the Penal State
DESCRIPTION:Seit 2002 veranstaltet das Institut für Sozialforschung in Zus
 ammenarbeit mit dem Suhrkamp Verlag jährlich Vorlesungen\, die an drei Ab
 enden an Theodor W. Adorno erinnern. Im Rahmen der diesjährigen Vorlesung
 en verbindet der Soziologe Loïc Wacquant sozialtheoretische\, historisch-
 vergleichende und ethnografische Ansätze\, um strafrechtliche Praktiken a
 ls Kernfunktion des Staates zu untersuchen. Durch den Einsatz von Polizei\
 , Gerichten und Gefängnissen kuratiert der strafende Staat Kriminalität\
 ; er hält sozialmoralische Abweichungen in Schach\, verwaltet städtische
  Marginalität und definiert die Grenzen von Staatsbürgerschaft. Wacquant
  argumentiert dafür\, den strafenden Staat daher in den Mittelpunkt einer
  politischen Soziologie zu rücken\, die sich für Fragen von Klasse\, Eth
 nizität und urbanem Raum interessiert.\n \n27. November\, 18.30 Uhr: Pen
 ality as a Core State Capacity and Negative Sociodicy  \n28. November\, 1
 8.30 Uhr: Marginality\, Ethnicity\, Territory  \n29. November\, 18.30 Uhr
 : Penal Power in the Flesh: The Workaday World of Prosecutors\n \nDie Ado
 rno-Vorlesungen finden auf Englisch statt.\nDie Auftaktvorlesung Penality 
 as a Core State Capacity and Negative Sociodicy verfolgt einen sozialtheor
 etischen Ansatz: Selektiv spürt Wacquant verschiedenen Staatstheorien –
  von Hobbes und Weber über Schmitt und Mann bis zu Scott und Bourdieu –
  sowie Theorien der Strafe – von Durkheim über Rusche bis Foucault – 
 nach\, um ein analytisches Konzept des strafenden Staates zu entwickeln. D
 er Bestrafung als staatlicher Kernkompetenz kommt\, über materialistische
  Ansätze hinausweisend\, der symbolische Zweck öffentlicher Beschämung 
 zu. Hier\, so zeigt Wacquant auf\, werden die Grenzen des Staatsbürgersta
 tus sichtbar\, wird die soziale und moralische Vernachlässigung marginali
 sierter Sozialkategorien legitimiert.In seiner zweiten Vorlesung wendet si
 ch Wacquant unter dem Titel Marginality\, Ethnicity\, Territory der Sozial
 geschichte und vergleichenden Soziologie des strafenden Staates zu. Seit s
 einer Erfindung im späten 16. Jahrhundert und bis ins 21. Jahrhundert hin
 ein richtet sich dieser durchgehend gegen Bevölkerungsgruppen\, die doppe
 lt untergeordnet sind – sowohl hinsichtlich der Klassenordnung (als Arme
 ) als auch ihrer Statusposition (als Außenseiter). Die Vorlesung fragt da
 nach\, warum dies so ist und über welche Mechanismen diese Selektivität 
 in formell demokratischen Gesellschaften hergestellt und verstetigt wird. 
 Um diesen Fragen nachzugehen\, vergleicht Wacquant die überproportionale 
 Überwachung und Inhaftierung von Schwarzen Menschen in den Vereinigten St
 aaten und den Umgang mit postkolonialer Migration in Westeuropa. Er rückt
  damit den Raum als Prisma des staatlichen Handelns in den Mittelpunkt sei
 ner Betrachtungen.In der dritten Vorlesung Penal Power in the Flesh: The W
 orkaday World of Prosecutors stützt sich Wacquant auf die Ethnografie\, u
 m zu zeigen\, dass Strafgewalt nicht nur auf dem Papier stattfindet\, sond
 ern sich konkret darin äußert\, dass vermeintlich unkontrollierbaren Kö
 rpern physische und psychische Schmerzen zugefügt werden. Die Strafgewalt
  geht von den autoritativen Worten und Taten der Akteure des Strafsystems 
 aus: Polizei\, Staatsanwält: innen\, Verteidiger:innen\, Richter:innen\, 
 Bewährungshelfer: innen. Wacquant taucht tief in die alltäglichen Prakti
 ken\, Organisationslogiken und Affektwelten von Staatsanwält:innen ein\, 
 die er über einen Zeitraum von drei Jahren in einem kalifornischen Strafg
 ericht beobachtete. Abschließend verknüpft er Ethnografie und Theorie\, 
 um die zentrale Bedeutung des Strafens für die Definition und Durchsetzun
 g von sozialer Zugehörigkeit hervorzuheben.\n \nLoïc Wacquant ist Profe
 ssor für Soziologie an der University of California in Berkeley und Forsc
 her am Centre Européen de Sociologie et de Science Politique in Paris. Se
 ine Bücher wurden in zwanzig Sprachen übersetzt\, jüngst erschienen sin
 d Jim Crow. Le Terrorisme de Caste en Amérique (2024)\, Racial Domination
  (2024)\, Misère de l’Ethnographie de la Misère (2023) und Bourdieu in
  the City. Challenging Urban Theory (2023). Auf Deutsch erschienen sind un
 ter anderem Die Erfindung der »Unterklasse«. Eine Studie zur Politik des
  Wissens (2023)\, Die Verdammten der Stadt. Eine vergleichende Soziologie 
 fortgeschrittener Marginalität (2017)\, Bestrafen der Armen. Zur neoliber
 alen Regierung der sozialen Unsicherheit (2009)\, Leben für den Ring. Box
 en im amerikanischen Ghetto (2003)\, Elend hinter Gittern (2000) und Refle
 xive Anthropologie (zusammen mit Pierre Bourdieu\, 1996).\n \nLoïc Wacqu
 ant – Rethinking the Penal State\nSince 2002\, the Institute for Social 
 Research has organized in cooperation with Suhrkamp Verlag annual lectures
  commemorating Theodor W. Adorno that are held on three successive evening
 s. In this year’s lecture the sociologist Loïc Wacquant combines social
  theory\, comparative history and ethnography to probe into criminal punis
 hment as a core function of the state. By deploying the police\, court and
  prison\, the penal state curates crime\, contains sociomoral disorders\, 
 manages urban marginality and draws the boundaries of citizenship. Therefo
 re\, Wacquant argues\, the penal state must be placed at the epicenter of 
 the political sociology of class\, ethnicity and place in the metropolis.\
 nNovember 27th\, 6.30 pm: Penality as a Core State Capacity and Negative S
 ociodicy\nNovember 28th\, 6.30 pm: Marginality\, Ethnicity\, Territory\nNo
 vember 29th\, 6.30 pm: Penal Power in the Flesh: The Workaday World of Pro
 secutors\nThe lectures will be held in English.\nThe opening lecture\, Pen
 ality as a Core State Capacity and Negative Sociodicy\, takes a social-the
 oretical approach: Selectively Wacquant canvasses theories of the state 
 – from Hobbes and Weber to Schmitt and Mann to Scott and Bourdieu – an
 d theories of punishment – from Durkheim to Rusche to Foucault – to el
 aborate a robust analytic concept of the penal state. Analyzing penality a
 s a core state capacity transcends materialist perspectives by stressing t
 he symbolic purpose of criminal punishment as public disgrace. Thereby\, W
 acquant brightens the boundary of citizenship and shows how the social and
  moral dereliction of marginal categories is legitimized.\nIn his second l
 ecture\, Marginality\, Ethnicity\, Territory\, Wacquant turns to social hi
 story and comparative sociology. Since its invention in the late 16th cent
 ury and into the 21st century\, the penal state has everywhere targeted do
 ubly subordinated populations in the order of class (the poor) and status 
 (the outsider). In his lecture Wacquant asks why that is the case and what
  the mechanisms are\, through which this selectivity is achieved in formal
 ly democratic societies. How does it perpetuate itself? To answer those qu
 estions\, Wacquant compares the disproportionate policing and incarceratio
 n of Blacks in the United States and postcolonial migrants in Western Euro
 pe. In this analysis\, space is highlighted as a prism of state action.\nT
 he closing lecture\, Penality as Carnal Action: The Workaday World of Pros
 ecutors\, draws on ethnography. Wacquant doesn’t take penal power as a m
 ere paper abstraction but as residing in the concrete infliction of physic
 al and psychic pain upon bodies deemed out of control through the mediatio
 n of the authoritative words and deeds of penal actors of flesh and blood:
  police\, prosecutors\, defenders\, judges\, and parole and probation offi
 cers. Wacquant delves deeply into the everyday activities\, organizational
  reasoning\, and professional emotions of prosecutors at work\, which he o
 bserved over a period of three years in a California county criminal court
 . He closes by reuniting ethnography and theory to stress the centrality o
 f punishment in the definition and enforcement of social membership.\nLoï
 c Wacquant is Professor of sociology at the University of California\, Ber
 keley\, and Research associate at the Centre Européen de Sociologie et de
  Science Politique\, Paris. His books are translated in twenty languages. 
 His latest works include Jim Crow. Le Terrorisme de Caste en Amérique (20
 24)\, Racial Domination (2024)\, Misère de l’Ethnographie de la Misère
  (2023)\, Bourdieu in the City (2023).\n 
URL:https://www.ifs.uni-frankfurt.de/eventleser/adorno-vorlesungen-2024-2.h
 tml
DTSTART:20241128T183000
DTEND:20241128T183000
LOCATION:Mertonstraße 26-28\, 60325 Frankfurt am Main
END:VEVENT
BEGIN:VTIMEZONE
TZID:Europe/Berlin
BEGIN:STANDARD
DTSTART:20241128T183000
TZNAME:CET
TZOFFSETTO:+0100
TZOFFSETFROM:+0100
END:STANDARD
END:VTIMEZONE
END:VCALENDAR
