BEGIN:VCALENDAR
PRODID:-//eluceo/ical//2.0/EN
VERSION:2.0
CALSCALE:GREGORIAN
BEGIN:VEVENT
UID:9d19a11ed06669c382fb34354302fe70
DTSTAMP:20260419T204121Z
SUMMARY:Arbeit in der Kritischen Theorie
DESCRIPTION:Arbeit ist in der Theorie der Frankfurter Schule zugleich zentr
 al und randständig in ihrer Bedeutung: Zentral\, da die Arbeiter:innenbew
 egung des 19. und frühen 20. Jahrhunderts ihren Ausgangspunkt darstellt. 
 Marginal\, da die Autoren des Instituts für Sozialforschung Arbeit nicht 
 ins Zentrum ihrer Theoriebildung stellten. Selbst dort\, wo Theodor W. Ado
 rno\, Max Horkheimer oder Erich Fromm unmittelbar auf die Kritik der polit
 ischen Ökonomie von Karl Marx aufbauen\, kommt es nicht zu einer systemat
 ischen Analyse von Arbeitsverhältnissen. Dennoch ist die kapitalistische 
 Gesellschaft Gegenstand ihrer Analysen\, und deren Umwälzung Ziel ihrer K
 ritik. Damit haben sie heutigen sozialwissenschaftlichen\, philosophischen
  oder feuilletonistischen Debatten um die Arbeitsgesellschaft etwas voraus
 . Den Arbeitsbegriff der Kritischen Theorie rekonstruiert der Sammelband i
 n kuratierten Beiträgen\, die sich der Arbeitsweise des Instituts\, den S
 chriften der einzelnen Mitglieder und angrenzender kritischer Theoretiker 
 und Theoretikerinnen widmen. Entlang der Konzepte Naturbeherrschung\, Entf
 remdung und Verdinglichung lassen sich die Artikel\, Essays und Interviews
  verknüpfen zu einer Rekonstruktion kritischer Arbeitsforschung heute.\nH
 intergrund des Gesprächs bildet der von Philipp Lorig\, Virginia Kimey Pf
 lücke und Martin Seeliger herausgegebene Sammelband Arbeit in der Kritisc
 hen Theorie. Zur Rekonstruktion eines Begriffs\, der 2024 im Mandelbaum Ve
 rlag erschienen ist.\nAlexandra Ivanova ist Doktorandin am Institut für S
 oziologie an der Goethe-Universität Frankfurt a. M.\nVirginia Kimey Pflü
 cke habililtiert am Lehrstuhl für Wirtschafts- und Arbeitssoziologie an d
 er Brandenburgischen Technischen Universität in Cottbus.\nMarcel Stoetzle
 r ist Senior Lecturer für Soziologie an der Bangor University\, UK\, und 
 Horkheimer Fellow am Institut für Sozialforschung.\nStephan Voswinkel ist
  Soziologe und Permanent Fellow am Institut für Sozialforschung.\n 
URL:https://www.ifs.uni-frankfurt.de/eventleser/arbeit-in-der-kritischen-th
 eorie.html
DTSTART:20241112T200000
DTEND:20241112T200000
LOCATION:Grüneburgweg 76\, 60323 Frankfurt am Main
END:VEVENT
BEGIN:VTIMEZONE
TZID:Europe/Berlin
BEGIN:STANDARD
DTSTART:20241112T200000
TZNAME:CET
TZOFFSETTO:+0100
TZOFFSETFROM:+0100
END:STANDARD
END:VTIMEZONE
END:VCALENDAR
