BEGIN:VCALENDAR
PRODID:-//eluceo/ical//2.0/EN
VERSION:2.0
CALSCALE:GREGORIAN
BEGIN:VEVENT
UID:c36eb4f3325be311419fd71ccaaf9c3b
DTSTAMP:20260419T232757Z
SUMMARY:WestEnd-Launch: Die Kunst der Gegenuntersuchung
DESCRIPTION:Anlässlich des Erscheinens der neuen Ausgabe von WestEnd. Neue
  Zeitschrift für Sozialforschung\nAngesichts der anhaltenden rechten\, me
 ist rassistischen und antisemitischen Gewalt in Deutschland sowie ihrer h
 äufig unzureichenden strafrechtlichen Verfolgung widmet sich der Abend k
 ünstlerischen Interventionen\, die die Grenzen behördlicher Ermittlungen
  und medialer Berichterstattung reflektieren. Im Zentrum steht die Frage\,
  inwiefern Kunst durch die Bearbeitung vorhandener Untersuchungsmaterialen
  und die Einbeziehung ausgeklammerter Perspektiven selbst zu einer Form de
 r Untersuchung werden kann\, die die Verzerrungen und Leerstellen der etab
 lierten Verfahren offenlegt und in Frage stellt. Nach einer Lesung des The
 aterautors und Regisseurs Tuğsal Moğul sowie einem Screening der Filmema
 cherin Aysun Bademsoy diskutieren die Herausgeber:innen des WestEnd-Schwer
 punkts »Die Kunst der Gegenuntersuchung« mit den Künstler:innen über 
 ästhetische Verfahrensweisen der Bezeugung und Aufklärung rechter Gewalt
 .\nGäste: Aysun Bademsoy\, Marie-Hélène Gutberlet\, Tuğsal Moğul\, Fe
 lix Trautmann\, Franziska WildtModeration: Francesca Raimondi\nLaunch von 
 WestEnd 02/2025
URL:https://www.ifs.uni-frankfurt.de/eventleser/westend-launch-die-kunst-de
 r-gegenuntersuchung.html
DTSTART:20260224T190000
DTEND:20260224T190000
LOCATION:Waldschmidtstraße 4\, 60316 Frankfurt am Main
END:VEVENT
BEGIN:VTIMEZONE
TZID:Europe/Berlin
BEGIN:STANDARD
DTSTART:20260224T190000
TZNAME:CET
TZOFFSETTO:+0100
TZOFFSETFROM:+0100
END:STANDARD
END:VTIMEZONE
END:VCALENDAR
