BEGIN:VCALENDAR
PRODID:-//eluceo/ical//2.0/EN
VERSION:2.0
CALSCALE:GREGORIAN
BEGIN:VEVENT
UID:ecc9b1b535ea4dd1c67bfc700ba70232
DTSTAMP:20260425T230750Z
SUMMARY:White American Anti-Racism as a Moral Project
DESCRIPTION:For many contemporary\, white anti-racists in the US\, racism i
 s ultimately a moral problem. Fighting racism\, then\, requires individual
  and collective moral projects. Ethnographic research that compares anti-r
 acist activities across social movement and workplace settings in Los Ange
 les reveals some shared characteristics of anti-racism as a moral project:
  White anti-racists abide distinctive language ideologies\, cultivate new 
 self-projects and new notions of emotional equity. This kind of anti-racis
 t action can have institutional\, political consequences\, yet ongoing res
 earch is suggesting that it emerges in response to a deeply felt sense of 
 a moral rather than primarily institutional crisis. Larger trends in US po
 litical culture in conjunction with a diffusion of professionalized vocabu
 laries have made this moral approach to anti-racism the most recognizable 
 one to many white Americans.
URL:https://www.ifs.uni-frankfurt.de/eventleser/white-american-anti-racism-
 as-a-moral-project.html
DTSTART:20230714T170000
DTEND:20230714T190000
LOCATION:Senckenberganlage 26\, 60325 Frankfurt am Main
END:VEVENT
BEGIN:VTIMEZONE
TZID:Europe/Berlin
BEGIN:DAYLIGHT
DTSTART:20230714T170000
TZNAME:CEST
TZOFFSETTO:+0200
TZOFFSETFROM:+0200
END:DAYLIGHT
END:VTIMEZONE
END:VCALENDAR
